BEGIN:VCALENDAR
VERSION:2.0
PRODID:-//WRZ - ECPv6.15.20//NONSGML v1.0//EN
CALSCALE:GREGORIAN
METHOD:PUBLISH
X-ORIGINAL-URL:https://wr-zofingen.ch
X-WR-CALDESC:Veranstaltungen für WRZ
REFRESH-INTERVAL;VALUE=DURATION:PT1H
X-Robots-Tag:noindex
X-PUBLISHED-TTL:PT1H
BEGIN:VTIMEZONE
TZID:Europe/Zurich
BEGIN:DAYLIGHT
TZOFFSETFROM:+0100
TZOFFSETTO:+0200
TZNAME:CEST
DTSTART:20240331T010000
END:DAYLIGHT
BEGIN:STANDARD
TZOFFSETFROM:+0200
TZOFFSETTO:+0100
TZNAME:CET
DTSTART:20241027T010000
END:STANDARD
BEGIN:DAYLIGHT
TZOFFSETFROM:+0100
TZOFFSETTO:+0200
TZNAME:CEST
DTSTART:20250330T010000
END:DAYLIGHT
BEGIN:STANDARD
TZOFFSETFROM:+0200
TZOFFSETTO:+0100
TZNAME:CET
DTSTART:20251026T010000
END:STANDARD
BEGIN:DAYLIGHT
TZOFFSETFROM:+0100
TZOFFSETTO:+0200
TZNAME:CEST
DTSTART:20260329T010000
END:DAYLIGHT
BEGIN:STANDARD
TZOFFSETFROM:+0200
TZOFFSETTO:+0100
TZNAME:CET
DTSTART:20261025T010000
END:STANDARD
END:VTIMEZONE
BEGIN:VEVENT
DTSTART;TZID=Europe/Zurich:20250520T150000
DTEND;TZID=Europe/Zurich:20250520T200000
DTSTAMP:20260422T111851
CREATED:20240604T125321Z
LAST-MODIFIED:20250428T095322Z
UID:4687-1747753200-1747771200@wr-zofingen.ch
SUMMARY:GV und Tag der regionalen Wirtschaft 2025
DESCRIPTION:Herzlich willkommen zum Tag der regionalen Wirtschaft\nGeschätzte WRZ-Mitglieder\nLiebe Gäste \nEs rumort auf der Welt und es ist manchmal kaum noch möglich\, der Abfolge der Ereignisse zu folgen. Dinge\, welche Wirtschaftstätige in einer Exportnation\, wie die Schweiz eine ist\, mit Sorge erfüllen. Auch darüber werden wir an unserer GV reden. \nWir richten den Fokus aber trotzdem auf unsere Region\, wo nach Jahren der allzu grossen Ruhe und einer Phase von Betriebsschliessungen und Redimensionierungen plötzlich grosse Projekte im Raum stehen. Alle verdienen das Prädikat «epochal». Das ist eine grosse Herausforderung für jene\, die mit diesen Projekten befasst sind. Aber auch unsere Behörden können\, ja müssen diesen Chancen gerecht werden. Nicht einfach. Darüber werden Sie mehr erfahren. \nWahrscheinlich zum letzten Mal konnten wir unseren ZT-Chefredaktor als Moderator unseres Tagesprogramms verpflichten. Ich danke ihm ganz herzlich dafür. \nWir freuen uns auf Ihre Teilnahme bei der Rivella AG\, einer Firma\, die einen Leuchtturm für ­unsere Region darstellt. Und bringen Sie auch Ihre Partnerin/Ihren Partner mit. \nPeter Gehler\nPräsident WRZ \n  \n\n  \nTagesprogramm\nRivella AG\, Neue Industriestrasse 10\, 4852 Rothrist\n  \n15.00 Uhr\nGV (separate Einladung\, nur für Mitglieder) \n  \n16.00 Uhr \n\nBegrüssung und Präsidialansprache – Peter Gehler\, Präsident WRZ\nBegrüssung des Gastgebers – Vorstellung der Rivella Group\, Erland Brügger\, Co-Geschäftsleiter\n\n  \n16.20 – 17.15 Uhr\, Grosse Projekte in der Region Zofingen \n\nEntwicklungsschwerpunkt ESP 16 und seine Bedeutung\nDr. Adrian Borer\, Wirtschaftsförderer\nDie Entwicklung des Riniger-/Swissprinter-Areals in Zofingen\nDr. Thomas Held\, Consultant/Projektverantwortlicher\nProjekt ENPHOR\nVertreter der ERZO\nDie Festung Aarburg und ihre Zukunft ohne Jugendheim\nRafael Enzler\, Projektleiter Umnutzung Festung Aarburg\nEine multifunktionale Eventhalle in der Region Zofingen\nPeter Gehler\, Mitglied des Projektteams\n\n  \n17.15 – 17.30 Uhr\nVerleihung WRZ-Award 2025 \n  \n17.30 Uhr \n\nApéro – Bella Vista\nStart Rundgänge in Gruppen – Rivella AG\, Dauer 30 Min.\nFür den Rundgang sind flache\, geschlossene Schuhe zu tragen.\n\n  \n19.30 Uhr\nNachtessen – Restaurant Rössli Rothrist \n  \n\n\nAnmeldung\nAnmeldung online bis 16. Mai 2025 unter 2025.wr-zofingen.ch
URL:https://wr-zofingen.ch/events/gv-und-tag-der-regionalen-wirtschaft-2025/
CATEGORIES:GV,Tag der regionalen Wirtschaft
ATTACH;FMTTYPE=image/jpeg:https://wr-zofingen.ch/wp-content/uploads/2024/01/zofingen_drohnenaufnahme-min.jpg
END:VEVENT
END:VCALENDAR