BEGIN:VCALENDAR
VERSION:2.0
PRODID:-//WRZ - ECPv6.15.20//NONSGML v1.0//EN
CALSCALE:GREGORIAN
METHOD:PUBLISH
X-ORIGINAL-URL:https://wr-zofingen.ch
X-WR-CALDESC:Veranstaltungen für WRZ
REFRESH-INTERVAL;VALUE=DURATION:PT1H
X-Robots-Tag:noindex
X-PUBLISHED-TTL:PT1H
BEGIN:VTIMEZONE
TZID:UTC
BEGIN:STANDARD
TZOFFSETFROM:+0000
TZOFFSETTO:+0000
TZNAME:UTC
DTSTART:20230101T000000
END:STANDARD
END:VTIMEZONE
BEGIN:VEVENT
DTSTART;TZID=UTC:20240430T170000
DTEND;TZID=UTC:20240430T200000
DTSTAMP:20260423T080748
CREATED:20240404T044905Z
LAST-MODIFIED:20240404T050017Z
UID:4495-1714496400-1714507200@wr-zofingen.ch
SUMMARY:Einladung zum WRZ-Anlass: «Machen ist wie wollen\, nur krasser!»
DESCRIPTION:«Machen ist wie wollen\, nur krasser!»\nErfolgsgeschichten von Firmen aus unserer Region\nDienstag\, 30. April 2024 \nZeit für Erfolgsgeschichten! Wir können alle zuhören\, wenn die Geschäftsführer von Truttmann Kältetechnik und ERZO Erfolgsgeschichten ihrer Organisationen erzählen. Wie haben René Steinmann und Friedrich Studer es geschafft\, mit ihren Firmen erfolgreich zu sein\, trotz allen Schwierigkeiten unserer Zeit und wie haben ihre Teams die Herausforderungen gemeistert? \nVom Wollen ins Machen kommen: Ueli Marbot sensibilisiert uns\, wie Worte wirken\, damit sie uns Menschen mitnehmen und motivieren. Denn trotz aller Technik stehen immer wir Menschen im Mittelpunkt! \nUrs Affolter fasst schliesslich für uns die wichtigsten Erfolgsfaktoren zusammen. Dann kommt die Zeit für Diskussionen und Fragen mit Ihnen\, liebe Besucherinnen und Besucher\, bevor wir den Anlass mit einem Apéro Riche ausklingen lassen. \nDatum: Dienstag\, 30. April 2024\nZeit: Ab 17.00 Uhr Eintreffen\, 17.30 Uhr Beginn\nOrt: Kulturlokal Palass\, Pfistergasse 54\, 4800 Zofingen\nAnmeldung: wifoe.wr-zofingen.ch\nAnmeldeschluss: 22.04.2024 \nProgramm \n17.00 Uhr – Eintreffen der Gäste \n17.30 Uhr – Begrüssung\nAdrian Borer\, Wirtschaftsförderer Oftringen Rothrist Zofingen \n17.35 Uhr – «Machen ist wie wollen\, nur krasser»\nErfolgsgeschichten von Firmen aus unserer Region\nMit den Referenten René Steinmann\, Friedrich Sturder\, Ueli Marbot und Urs Affolter \n18.25 Uhr – Podium und Diskussion\nMit den Referenten und dem Publikum \n18.50 Uhr (ca.) – Schlusswort \nanschliessend Apéro Riche \n20.00 Uhr (ca.) – Ausklang\, Ende der Veranstaltung
URL:https://wr-zofingen.ch/events/einladung-zum-wrz-anlass-machen-ist-wie-wollen-nur-krasser/
LOCATION:Kulturlokal Palass\, Zofingen\, Pfistergasse 54\, 4800 Zofingen\, Schweiz
ATTACH;FMTTYPE=image/jpeg:https://wr-zofingen.ch/wp-content/uploads/2024/01/zofingen_drohnenaufnahme-min.jpg
END:VEVENT
END:VCALENDAR